BEGIN:VCALENDAR
VERSION:2.0
PRODID:-//The Heron - ECPv6.15.20//NONSGML v1.0//EN
CALSCALE:GREGORIAN
METHOD:PUBLISH
X-WR-CALNAME:The Heron
X-ORIGINAL-URL:https://theheron.org
X-WR-CALDESC:Events for The Heron
REFRESH-INTERVAL;VALUE=DURATION:PT1H
X-Robots-Tag:noindex
X-PUBLISHED-TTL:PT1H
BEGIN:VTIMEZONE
TZID:America/New_York
BEGIN:DAYLIGHT
TZOFFSETFROM:-0500
TZOFFSETTO:-0400
TZNAME:EDT
DTSTART:20240310T070000
END:DAYLIGHT
BEGIN:STANDARD
TZOFFSETFROM:-0400
TZOFFSETTO:-0500
TZNAME:EST
DTSTART:20241103T060000
END:STANDARD
BEGIN:DAYLIGHT
TZOFFSETFROM:-0500
TZOFFSETTO:-0400
TZNAME:EDT
DTSTART:20250309T070000
END:DAYLIGHT
BEGIN:STANDARD
TZOFFSETFROM:-0400
TZOFFSETTO:-0500
TZNAME:EST
DTSTART:20251102T060000
END:STANDARD
BEGIN:DAYLIGHT
TZOFFSETFROM:-0500
TZOFFSETTO:-0400
TZNAME:EDT
DTSTART:20260308T070000
END:DAYLIGHT
BEGIN:STANDARD
TZOFFSETFROM:-0400
TZOFFSETTO:-0500
TZNAME:EST
DTSTART:20261101T060000
END:STANDARD
END:VTIMEZONE
BEGIN:VEVENT
DTSTART;TZID=America/New_York:20250419T090000
DTEND;TZID=America/New_York:20250419T130000
DTSTAMP:20260422T061557
CREATED:20241205T192759Z
LAST-MODIFIED:20241205T192759Z
UID:10000811-1745053200-1745067600@theheron.org
SUMMARY:Jamestown Public Market - Winter Farmers Market
DESCRIPTION:For the first time\, the Jamestown Public Market is piloting a winter market. Once a month for the 2024-2025 winter season\, the Jamestown Public Market will be located in the St. Luke’s Undercroft at 410 N Main St from 9 am – 1 pm \nGreen Heron Grower will be present with our 100% Grass-fed Beef\, Organic Pastured Chicken\, Pastured Pork\, Seasonal Produce\, local honey and prepared gourmet goodies like soup\, pates and pesto! \n 
URL:https://theheron.org/event/jamestown-public-market-winter-farmers-market/2025-04-19/
LOCATION:St. Luke’s Undercroft\, 410 N Main St\, Jamestown\, 14701\, United States
CATEGORIES:Farmers Markets
ATTACH;FMTTYPE=image/jpeg:https://theheron.org/wp-content/uploads/2024/12/278055011_5303083079716072_8391394166193324262_n.jpg
END:VEVENT
END:VCALENDAR