BEGIN:VCALENDAR
VERSION:2.0
PRODID:-//The Heron - ECPv6.15.20//NONSGML v1.0//EN
CALSCALE:GREGORIAN
METHOD:PUBLISH
X-WR-CALNAME:The Heron
X-ORIGINAL-URL:https://theheron.org
X-WR-CALDESC:Events for The Heron
REFRESH-INTERVAL;VALUE=DURATION:PT1H
X-Robots-Tag:noindex
X-PUBLISHED-TTL:PT1H
BEGIN:VTIMEZONE
TZID:America/New_York
BEGIN:DAYLIGHT
TZOFFSETFROM:-0500
TZOFFSETTO:-0400
TZNAME:EDT
DTSTART:20230312T070000
END:DAYLIGHT
BEGIN:STANDARD
TZOFFSETFROM:-0400
TZOFFSETTO:-0500
TZNAME:EST
DTSTART:20231105T060000
END:STANDARD
BEGIN:DAYLIGHT
TZOFFSETFROM:-0500
TZOFFSETTO:-0400
TZNAME:EDT
DTSTART:20240310T070000
END:DAYLIGHT
BEGIN:STANDARD
TZOFFSETFROM:-0400
TZOFFSETTO:-0500
TZNAME:EST
DTSTART:20241103T060000
END:STANDARD
BEGIN:DAYLIGHT
TZOFFSETFROM:-0500
TZOFFSETTO:-0400
TZNAME:EDT
DTSTART:20250309T070000
END:DAYLIGHT
BEGIN:STANDARD
TZOFFSETFROM:-0400
TZOFFSETTO:-0500
TZNAME:EST
DTSTART:20251102T060000
END:STANDARD
END:VTIMEZONE
BEGIN:VEVENT
DTSTART;TZID=America/New_York:20240811T100000
DTEND;TZID=America/New_York:20240811T120000
DTSTAMP:20260423T141919
CREATED:20240226T221239Z
LAST-MODIFIED:20240806T204746Z
UID:36179-1723370400-1723377600@theheron.org
SUMMARY:Heron Trail Run 5K
DESCRIPTION:The 6th annual Heron 5K Trail Race will be Sunday August 11th 2024\, this annual race is in memory of our dear friend Dave McDonald.  Dave loved to run\, he loved the Heron\, and he loved music. \nRegistration for the 5K is FREE: https://runsignup.com/herontrailrun \nAlthough registration is FREE this year we encourage donations as all proceeds and donations will benefit the Chautauqua Humane Society in Jamestown\, NY! \n\nThis well-marked route is both challenging and fun and will satisfy new and experienced runners and walkers of all ages. Run or walk the beautiful trails at The Heron and enjoy a weekend filled with live-music and family friendly fun! We welcome new and experienced runners and walkers of all ages! \nEvent t-shirts are available for an additional cost\, while supplies last. \nOnline registration remains open through 6:59 pm on Friday 8/9. \nOn-site registration will start at 8:30 am on Sunday 8/11. \n\n\n\n******* \nHERON TRAIL RUN WEEKEND PROGRAMMING:Saturday August 10\, 2024 Camp at the Green Heron Farm and Event Center this Saturday August 10th and enjoy a quiet and relaxing night under the stars to be ready for the 5K in the morning!Reserve your campsite or Airbnb at: https://theheron.org/heron-campground/\n\nSunday August 11\, 2024 10:00am: Heron Trail Run 5K11:30am: Kenny Williams12:45pm: The Predicament 2:00pm: Oliver Burdo and Friends 4:00pm: Smackdab\n\n\n\nKids games and food for sale all afternoon!\n*******\n\nSee you soon!\n\n\n\n 
URL:https://theheron.org/event/heron-5k-trail-race-2/
LOCATION:The Heron Farm & Event Center\, 2361 Waits Corner Rd\, Sherman\, NY\, 14781\, United States
CATEGORIES:Fundraiser
ATTACH;FMTTYPE=image/jpeg:https://theheron.org/wp-content/uploads/2024/02/5K-Race-map-scaled.jpg
END:VEVENT
END:VCALENDAR